Workbook

Sheet 動作卡
A1: 2026年全港彈網公開賽
A2: 比賽動作卡
A3: (請自行複製，每位運動員/每隊雙人同步隊伍一頁)
A4: 項目 | B4: =IF(C4<4,"個人","雙人同步") -> 個人 | C4: 1
A5: 性別 | B5: =IF(C5=1,"男子",IF(C5=2,"女子",IF(C5=3,"混合",""))) -> 男子 | C5: 1
F12: =IF(AND(C4<4,B5="混合"),"只有'雙人同步'項目才可選'混合'，'個人'項目請選擇'男子'／'女子'","")
A15: 參加者姓名1 (英文):
A16: 參加者姓名1 (中文):
A18: 參加者姓名2 (英文):
A19: 參加者姓名2 (中文):
A21: Routine I (套路 1)
B22: No. | C22: Movement | F22: Diff. | H22: * | I22: Chk.
B23: 1 | F23: =_xlfn.IFNA(VLOOKUP(C23,動作表!A:B,2,FALSE),"")
B24: 2 | F24: =_xlfn.IFNA(VLOOKUP(C24,動作表!A:B,2,FALSE),"")
B25: 3 | F25: =_xlfn.IFNA(VLOOKUP(C25,動作表!A:B,2,FALSE),"")
B26: 4 | F26: =_xlfn.IFNA(VLOOKUP(C26,動作表!A:B,2,FALSE),"")
B27: 5 | C27: (如未有列入動作,請於"動作表"頁自行加入) | F27: =_xlfn.IFNA(VLOOKUP(C27,動作表!A:B,2,FALSE),"") -> ---
B28: 6 | F28: =_xlfn.IFNA(VLOOKUP(C28,動作表!A:B,2,FALSE),"")
B29: 7 | F29: =_xlfn.IFNA(VLOOKUP(C29,動作表!A:B,2,FALSE),"")
B30: 8 | F30: =_xlfn.IFNA(VLOOKUP(C30,動作表!A:B,2,FALSE),"")
B31: 9 | F31: =_xlfn.IFNA(VLOOKUP(C31,動作表!A:B,2,FALSE),"")
B32: 10 | F32: =_xlfn.IFNA(VLOOKUP(C32,動作表!A:B,2,FALSE),"")
B33: * 請以* 號表示滿足難度要求的動作 | F33: =SUM(F23:G32) -> 0
A35: Routine II (套路 2) (雙人同步不適用)
B36: No. | C36: Movement | F36: Diff. | H36: * | I36: Chk.
B37: 1 | F37: =_xlfn.IFNA(VLOOKUP(C37,動作表!A:B,2,FALSE),"")
B38: 2 | F38: =_xlfn.IFNA(VLOOKUP(C38,動作表!A:B,2,FALSE),"")
B39: 3 | F39: =_xlfn.IFNA(VLOOKUP(C39,動作表!A:B,2,FALSE),"")
B40: 4 | F40: =_xlfn.IFNA(VLOOKUP(C40,動作表!A:B,2,FALSE),"")
B41: 5 | F41: =_xlfn.IFNA(VLOOKUP(C41,動作表!A:B,2,FALSE),"")
B42: 6 | F42: =_xlfn.IFNA(VLOOKUP(C42,動作表!A:B,2,FALSE),"")
B43: 7 | F43: =_xlfn.IFNA(VLOOKUP(C43,動作表!A:B,2,FALSE),"")
B44: 8 | F44: =_xlfn.IFNA(VLOOKUP(C44,動作表!A:B,2,FALSE),"")
B45: 9 | F45: =_xlfn.IFNA(VLOOKUP(C45,動作表!A:B,2,FALSE),"")
B46: 10 | F46: =_xlfn.IFNA(VLOOKUP(C46,動作表!A:B,2,FALSE),"")
B47: * 請以* 號表示滿足難度要求的動作 | F47: =SUM(F37:G46) -> 0
B49: Diff. : | C49: Difficulty | E49: Chk.: | F49: Checked (Used by judges)

Sheet 動作表
A1: Element | B1: Difficulty Score | C1: Remarks
A2: Tuck | B2: 0.1
A3: Pike | B3: 0.1
A4: Straddle | B4: 0.1
A5: Half twist | B5: 0.1
A6: Full twist | B6: 0.2
A7: Seat drop | B7: 0.1
A8: 1/2 twist to seat drop | B8: 0.1
A9: to feet | B9: 0.1 | C9: from seat/front/back
A10: 1/2 twist to feet | B10: 0.1 | C10: from seat
A11: 1/2 twist to feet (from front/back drop) | B11: 0.2 | C11: from front/back
A12: Front drop | B12: 0.1
A13: 1/2 twist to front drop | B13: 0.2
A14: 1/2 twist to front drop (from front drop) | B14: 0.3
A15: Back drop | B15: 0.1
A16: 1/2 twist to back drop | B16: 0.2
A17: 1/2 twist to back drop (from back drop) | B17: 0.3
A18: Full twist to back | B18: 0.3
A19: Half Turntable | B19: 0.1
A20: Full Turntable | B20: 0.2
A21: 30/ | B21: 0.3 | C21: Lazy Back
A22: 30/ (f) | B22: 0.3 | C22: Crash Dive
A23: 30< | B23: 0.3 | C23: Lazy Back
A24: 30< (f) | B24: 0.3 | C24: Crash Dive
A25: 30o | B25: 0.3 | C25: Lazy Back
A26: 30o (f) | B26: 0.3 | C26: Crash Dive
A27: 31/ | B27: 0.4 | C27: Barani to Back
A28: 31/ (b) | B28: 0.4 | C28: half in 3/4 front
A29: 31< | B29: 0.4 | C29: Barani to Back
A30: 31o | B30: 0.4 | C30: Barani to Back
A31: 32/ | B31: 0.5 | C31: back full to front
A32: 40/ | B32: 0.6 | C32: Back Somersault
... A40: 41o | B40: 0.6 | C40: Barani
A41: 42 | B41: 0.7 | C41: Back Full
A42: 43 | B42: 0.8 | C42: Rudolph
A43: 44 | B43: 0.9 | C43: Double Full
A44: 45 | B44: 1 | C44: Randolph
A45: 46 | B45: 1.1 | C45: Triple Full
A46: 47 | B46: 1.2 | C46: 3 1/2 twisting front
A47: 48 | B47: 1.3 | C47: Quadruple Full
...

Sheet 男丙個人_陳一二(個人動作卡例子 可刪除)
A1: 2026年全港彈網公開賽
A2: 比賽動作卡
A3: (請自行複製，每位運動員/每隊雙人同步隊伍一頁)
A4: 項目 | B4: =IF(C4<4,"個人","雙人同步") -> 個人 | C4: 3
A5: 性別 | B5: =IF(C5=1,"男子",IF(C5=2,"女子",IF(C5=3,"混合",""))) -> 男子 | C5: 1
F12: =IF(AND(C4<4,B5="混合"),"只有'雙人同步'項目才可選'混合'，'個人'項目請選擇'男子'／'女子'","")
A15: 參加者姓名1 (英文): | C15: Chan Yat Yi
A16: 參加者姓名1 (中文): | C16: 陳一二
A18: 參加者姓名2 (英文):
A19: 參加者姓名2 (中文):
A21: Routine I (套路 1)
B22: No. | C22: Movement | F22: Diff. | H22: * | I22: Chk.
B23: 1 | C23: 40/ | F23: =_xlfn.IFNA(VLOOKUP(C23,動作表!A:B,2,FALSE),"") -> 0.6 | H23: *
B24: 2 | C24: Straddle | F24: =_xlfn.IFNA(VLOOKUP(C24,動作表!A:B,2,FALSE),"") -> 0.1
B25: 3 | C25: 40< | F25: =_xlfn.IFNA(VLOOKUP(C25,動作表!A:B,2,FALSE),"") -> 0.6
B26: 4 | C26: Pike | F26: =_xlfn.IFNA(VLOOKUP(C26,動作表!A:B,2,FALSE),"") -> 0.1
B27: 5 | C27: 1/2 twist to seat drop | F27: =_xlfn.IFNA(VLOOKUP(C27,動作表!A:B,2,FALSE),"") -> 0.1
B28: 6 | C28: 1/2 twist to seat drop | F28: =_xlfn.IFNA(VLOOKUP(C28,動作表!A:B,2,FALSE),"") -> 0.1
B29: 7 | C29: 1/2 twist to feet | F29: =_xlfn.IFNA(VLOOKUP(C29,動作表!A:B,2,FALSE),"") -> 0.1
B30: 8 | C30: Back drop | F30: =_xlfn.IFNA(VLOOKUP(C30,動作表!A:B,2,FALSE),"") -> 0.1
B31: 9 | C31: 1/2 twist to feet (from front/back drop) | F31: =_xlfn.IFNA(VLOOKUP(C31,動作表!A:B,2,FALSE),"") -> 0.2
B32: 10 | C32: 40o (f) | F32: =_xlfn.IFNA(VLOOKUP(C32,動作表!A:B,2,FALSE),"") -> 0.5
B33: * 請以* 號表示滿足難度要求的動作 | F33: =SUM(F23:G32) -> 2.5
A35: Routine II (套路 2) (雙人同步不適用)
B36: No. | C36: Movement | F36: Diff. | H36: * | I36: Chk.
B37: 1 | C37: 30/ | F37: =_xlfn.IFNA(VLOOKUP(C37,動作表!A:B,2,FALSE),"") -> 0.3
B38: 2 | C38: 50/ | F38: =_xlfn.IFNA(VLOOKUP(C38,動作表!A:B,2,FALSE),"") -> 0.7 | H38: *
B39: 3 | C39: Tuck | F39: =_xlfn.IFNA(VLOOKUP(C39,動作表!A:B,2,FALSE),"") -> 0.1
B40: 4 | C40: Half twist | F40: =_xlfn.IFNA(VLOOKUP(C40,動作表!A:B,2,FALSE),"") -> 0.1
B41: 5 | C41: Seat drop | F41: =_xlfn.IFNA(VLOOKUP(C41,動作表!A:B,2,FALSE),"") -> 0.1
B42: 6 | C42: 1/2 twist to seat drop | F42: =_xlfn.IFNA(VLOOKUP(C42,動作表!A:B,2,FALSE),"") -> 0.1
B43: 7 | C43: to feet | F43: =_xlfn.IFNA(VLOOKUP(C43,動作表!A:B,2,FALSE),"") -> 0.1
B44: 8 | C44: Back drop | F44: =_xlfn.IFNA(VLOOKUP(C44,動作表!A:B,2,FALSE),"") -> 0.1
B45: 9 | C45: e.g., to seat drop (from back drop) | F45: =_xlfn.IFNA(VLOOKUP(C45,動作表!A:B,2,FALSE),"") -> ---
B46: 10 | C46: to feet | F46: =_xlfn.IFNA(VLOOKUP(C46,動作表!A:B,2,FALSE),"") -> 0.1
B47: * 請以* 號表示滿足難度要求的動作 | F47: =SUM(F37:G46) -> 1.7
B49: Diff. : | C49: Difficulty | E49: Chk.: | F49: Checked (Used by judges)

Sheet 混合同步_陳一二陳一三 (同步動作卡例子 可刪除)
A1: 2026年全港彈網公開賽
A2: 比賽動作卡
A3: (請自行複製，每位運動員/每隊雙人同步隊伍一頁)
A4: 項目 | B4: =IF(C4<4,"個人","雙人同步") -> 雙人同步 | C4: 5
A5: 性別 | B5: =IF(C5=1,"男子",IF(C5=2,"女子",IF(C5=3,"混合",""))) -> 混合 | C5: 3
F12: =IF(AND(C4<4,B5="混合"),"只有'雙人同步'項目才可選'混合'，'個人'項目請選擇'男子'／'女子'","")
A15: 參加者姓名1 (英文): | C15: Chan Yat Yi
A16: 參加者姓名1 (中文): | C16: 陳一二
A18: 參加者姓名2 (英文): | C18: Chan Yat Sam
A19: 參加者姓名2 (中文): | C19: 陳一三
A21: Routine I (套路 1)
B22: No. | C22: Movement | F22: Diff. | H22: * | I22: Chk.
B23: 1 | C23: 40/ | F23: =_xlfn.IFNA(VLOOKUP(C23,動作表!A:B,2,FALSE),"") -> 0.6 | H23: *
B24: 2 | C24: Straddle | F24: =_xlfn.IFNA(VLOOKUP(C24,動作表!A:B,2,FALSE),"") -> 0.1
B25: 3 | C25: 40< | F25: =_xlfn.IFNA(VLOOKUP(C25,動作表!A:B,2,FALSE),"") -> 0.6 | H25: *
B26: 4 | C26: Pike | F26: =_xlfn.IFNA(VLOOKUP(C26,動作表!A:B,2,FALSE),"") -> 0.1
B27: 5 | C27: 1/2 twist to seat drop | F27: =_xlfn.IFNA(VLOOKUP(C27,動作表!A:B,2,FALSE),"") -> 0.1
B28: 6 | C28: 1/2 twist to seat drop | F28: =_xlfn.IFNA(VLOOKUP(C28,動作表!A:B,2,FALSE),"") -> 0.1
B29: 7 | C29: 1/2 twist to feet | F29: =_xlfn.IFNA(VLOOKUP(C29,動作表!A:B,2,FALSE),"") -> 0.1
B30: 8 | C30: Back drop | F30: =_xlfn.IFNA(VLOOKUP(C30,動作表!A:B,2,FALSE),"") -> 0.1
B31: 9 | C31: 1/2 twist to feet (from front/back drop) | F31: =_xlfn.IFNA(VLOOKUP(C31,動作表!A:B,2,FALSE),"") -> 0.2
B32: 10 | C32: 40o (f) | F32: =_xlfn.IFNA(VLOOKUP(C32,動作表!A:B,2,FALSE),"") -> 0.5
B33: * 請以* 號表示滿足難度要求的動作 | F33: =SUM(F23:G32) -> 2.5
A35: Routine II (套路 2) (雙人同步不適用)
B36: No. | C36: Movement | F36: Diff. | H36: * | I36: Chk.
B37: 1 | F37: =_xlfn.IFNA(VLOOKUP(C37,動作表!A:B,2,FALSE),"")
B38: 2 | F38: =_xlfn.IFNA(VLOOKUP(C38,動作表!A:B,2,FALSE),"")
B39: 3 | F39: =_xlfn.IFNA(VLOOKUP(C39,動作表!A:B,2,FALSE),"")
B40: 4 | F40: =_xlfn.IFNA(VLOOKUP(C40,動作表!A:B,2,FALSE),"")
B41: 5 | F41: =_xlfn.IFNA(VLOOKUP(C41,動作表!A:B,2,FALSE),"")
B42: 6 | F42: =_xlfn.IFNA(VLOOKUP(C42,動作表!A:B,2,FALSE),"")
B43: 7 | F43: =_xlfn.IFNA(VLOOKUP(C43,動作表!A:B,2,FALSE),"")
B44: 8 | F44: =_xlfn.IFNA(VLOOKUP(C44,動作表!A:B,2,FALSE),"")
B45: 9 | F45: =_xlfn.IFNA(VLOOKUP(C45,動作表!A:B,2,FALSE),"")
B46: 10 | F46: =_xlfn.IFNA(VLOOKUP(C46,動作表!A:B,2,FALSE),"")
B47: * 請以* 號表示滿足難度要求的動作 | F47: =SUM(F37:G46) -> 0
B49: Diff. : | C49: Difficulty | E49: Chk.: | F49: Checked (Used by judges)

Sheet BoysCInd_CYY(個人動作卡例子 可刪除)
A1: 2026年全港彈網公開賽
A2: 比賽動作卡
A3: (請自行複製，每位運動員/每隊雙人同步隊伍一頁)
A4: 項目 | B4: =IF(C4<4,"個人","雙人同步") -> 個人 | C4: 3
A5: 性別 | B5: =IF(C5=1,"男子",IF(C5=2,"女子",IF(C5=3,"混合",""))) -> 男子 | C5: 1
F12: =IF(AND(C4<4,B5="混合"),"只有'雙人同步'項目才可選'混合'，'個人'項目請選擇'男子'／'女子'","")
A15: 參加者姓名1 (英文): | C15: Chan Yat Yi
A16: 參加者姓名1 (中文):
A18: 參加者姓名2 (英文):
A19: 參加者姓名2 (中文):
A21: Routine I (套路 1)
B22: No. | C22: Movement | F22: Diff. | H22: * | I22: Chk.
B23: 1 | C23: 40/ | F23: =_xlfn.IFNA(VLOOKUP(C23,動作表!A:B,2,FALSE),"") -> 0.6 | H23: *
B24: 2 | C24: Straddle | F24: =_xlfn.IFNA(VLOOKUP(C24,動作表!A:B,2,FALSE),"") -> 0.1
B25: 3 | C25: 40< | F25: =_xlfn.IFNA(VLOOKUP(C25,動作表!A:B,2,FALSE),"") -> 0.6
B26: 4 | C26: Pike | F26: =_xlfn.IFNA(VLOOKUP(C26,動作表!A:B,2,FALSE),"") -> 0.1
B27: 5 | C27: 1/2 twist to seat drop | F27: =_xlfn.IFNA(VLOOKUP(C27,動作表!A:B,2,FALSE),"") -> 0.1
B28: 6 | C28: 1/2 twist to seat drop | F28: =_xlfn.IFNA(VLOOKUP(C28,動作表!A:B,2,FALSE),"") -> 0.1
B29: 7 | C29: 1/2 twist to feet | F29: =_xlfn.IFNA(VLOOKUP(C29,動作表!A:B,2,FALSE),"") -> 0.1
B30: 8 | C30: Back drop | F30: =_xlfn.IFNA(VLOOKUP(C30,動作表!A:B,2,FALSE),"") -> 0.1
B31: 9 | C31: 1/2 twist to feet (from front/back drop) | F31: =_xlfn.IFNA(VLOOKUP(C31,動作表!A:B,2,FALSE),"") -> 0.2
B32: 10 | C32: 40o (f) | F32: =_xlfn.IFNA(VLOOKUP(C32,動作表!A:B,2,FALSE),"") -> 0.5
B33: * 請以* 號表示滿足難度要求的動作 | F33: =SUM(F23:G32) -> 2.5
A35: Routine II (套路 2) (雙人同步不適用)
B36: No. | C36: Movement | F36: Diff. | H36: * | I36: Chk.
B37: 1 | C37: 30/ | F37: =_xlfn.IFNA(VLOOKUP(C37,動作表!A:B,2,FALSE),"") -> 0.3
B38: 2 | C38: 50/ | F38: =_xlfn.IFNA(VLOOKUP(C38,動作表!A:B,2,FALSE),"") -> 0.7 | H38: *
B39: 3 | C39: Tuck | F39: =_xlfn.IFNA(VLOOKUP(C39,動作表!A:B,2,FALSE),"") -> 0.1
B40: 4 | C40: Half twist | F40: =_xlfn.IFNA(VLOOKUP(C40,動作表!A:B,2,FALSE),"") -> 0.1
B41: 5 | C41: Seat drop | F41: =_xlfn.IFNA(VLOOKUP(C41,動作表!A:B,2,FALSE),"") -> 0.1
B42: 6 | C42: 1/2 twist to seat drop | F42: =_xlfn.IFNA(VLOOKUP(C42,動作表!A:B,2,FALSE),"") -> 0.1
B43: 7 | C43: to feet | F43: =_xlfn.IFNA(VLOOKUP(C43,動作表!A:B,2,FALSE),"") -> 0.1
B44: 8 | C44: Back drop | F44: =_xlfn.IFNA(VLOOKUP(C44,動作表!A:B,2,FALSE),"") -> 0.1
B45: 9 | C45: e.g., to seat drop (from back drop) | F45: =_xlfn.IFNA(VLOOKUP(C45,動作表!A:B,2,FALSE),"") -> ---
B46: 10 | C46: to feet | F46: =_xlfn.IFNA(VLOOKUP(C46,動作表!A:B,2,FALSE),"") -> 0.1
B47: * 請以* 號表示滿足難度要求的動作 | F47: =SUM(F37:G46) -> 1.7
B49: Diff. : | C49: Difficulty | E49: Chk.: | F49: Checked (Used by judges)

Sheet Girls15Syn_CYYCYS (同步動作卡例子 可刪除
A1: 2026年全港彈網公開賽
A2: 比賽動作卡
A3: (請自行複製，每位運動員/每隊雙人同步隊伍一頁)
A4: 項目 | B4: =IF(C4<4,"個人","雙人同步") -> 雙人同步 | C4: 5
A5: 性別 | B5: =IF(C5=1,"男子",IF(C5=2,"女子",IF(C5=3,"混合",""))) -> 女子 | C5: 2
F12: =IF(AND(C4<4,B5="混合"),"只有'雙人同步'項目才可選'混合'，'個人'項目請選擇'男子'／'女子'","")
A15: 參加者姓名1 (英文): | C15: Chan Yat Yi
A16: 參加者姓名1 (中文):
A18: 參加者姓名2 (英文): | C18: Chan Yat Sam
A19: 參加者姓名2 (中文):
A21: Routine I (套路 1)
B22: No. | C22: Movement | F22: Diff. | H22: * | I22: Chk.
B23: 1 | C23: 40/ | F23: =_xlfn.IFNA(VLOOKUP(C23,動作表!A:B,2,FALSE),"") -> 0.6 | H23: *
B24: 2 | C24: Straddle | F24: =_xlfn.IFNA(VLOOKUP(C24,動作表!A:B,2,FALSE),"") -> 0.1
B25: 3 | C25: 40< | F25: =_xlfn.IFNA(VLOOKUP(C25,動作表!A:B,2,FALSE),"") -> 0.6 | H25: *
B26: 4 | C26: Pike | F26: =_xlfn.IFNA(VLOOKUP(C26,動作表!A:B,2,FALSE),"") -> 0.1
B27: 5 | C27: 1/2 twist to seat drop | F27: =_xlfn.IFNA(VLOOKUP(C27,動作表!A:B,2,FALSE),"") -> 0.1
B28: 6 | C28: 1/2 twist to seat drop | F28: =_xlfn.IFNA(VLOOKUP(C28,動作表!A:B,2,FALSE),"") -> 0.1
B29: 7 | C29: 1/2 twist to feet | F29: =_xlfn.IFNA(VLOOKUP(C29,動作表!A:B,2,FALSE),"") -> 0.1
B30: 8 | C30: Back drop | F30: =_xlfn.IFNA(VLOOKUP(C30,動作表!A:B,2,FALSE),"") -> 0.1
B31: 9 | C31: 1/2 twist to feet (from front/back drop) | F31: =_xlfn.IFNA(VLOOKUP(C31,動作表!A:B,2,FALSE),"") -> 0.2
B32: 10 | C32: 40o (f) | F32: =_xlfn.IFNA(VLOOKUP(C32,動作表!A:B,2,FALSE),"") -> 0.5
B33: * 請以* 號表示滿足難度要求的動作 | F33: =SUM(F23:G32) -> 2.5
A35: Routine II (套路 2) (雙人同步不適用)
B36: No. | C36: Movement | F36: Diff. | H36: * | I36: Chk.
B37: 1 | F37: =_xlfn.IFNA(VLOOKUP(C37,動作表!A:B,2,FALSE),"")
B38: 2 | F38: =_xlfn.IFNA(VLOOKUP(C38,動作表!A:B,2,FALSE),"")
B39: 3 | F39: =_xlfn.IFNA(VLOOKUP(C39,動作表!A:B,2,FALSE),"")
B40: 4 | F40: =_xlfn.IFNA(VLOOKUP(C40,動作表!A:B,2,FALSE),"")
B41: 5 | F41: =_xlfn.IFNA(VLOOKUP(C41,動作表!A:B,2,FALSE),"")
B42: 6 | F42: =_xlfn.IFNA(VLOOKUP(C42,動作表!A:B,2,FALSE),"")
B43: 7 | F43: =_xlfn.IFNA(VLOOKUP(C43,動作表!A:B,2,FALSE),"")
B44: 8 | F44: =_xlfn.IFNA(VLOOKUP(C44,動作表!A:B,2,FALSE),"")
B45: 9 | F45: =_xlfn.IFNA(VLOOKUP(C45,動作表!A:B,2,FALSE),"")
B46: 10 | F46: =_xlfn.IFNA(VLOOKUP(C46,動作表!A:B,2,FALSE),"")
B47: * 請以* 號表示滿足難度要求的動作 | F47: =SUM(F37:G46) -> 0
B49: Diff. : | C49: Difficulty | E49: Chk.: | F49: Checked (Used by judges)
